BEGIN:VCALENDAR
VERSION:2.0
PRODID:-//TYPO3/NONSGML News system (news)//EN
BEGIN:VEVENT
TZID:Central Europe Standard Time
UID:news-63128@ipp.ht.tu-dortmund.de
DTSTAMP:20260424T091223Z

DTSTART:20260512T180000
DTEND:20260512T200000


LOCATION:Bibliothekssaal Uni Duisburg-Essen, Campus Essen

DESCRIPTION:https://ipp.ht.tu-dortmund.de/veranstaltungsdetail/12052026-philosophischer-kinoabend-hatespeech-die-unsichtbare-macht-der-sprache-63128/
SUMMARY:12.05.2026 Philosophischer Kinoabend: Hatespeech - Die unsichtbare Macht der Sprache
END:VEVENT
END:VCALENDAR
