BEGIN:VCALENDAR
VERSION:2.0
PRODID:-//TYPO3/NONSGML News system (news)//EN
BEGIN:VEVENT
TZID:Central Europe Standard Time
UID:news-62990@ipp.ht.tu-dortmund.de
DTSTAMP:20260421T073740Z

DTSTART:20260427T160000
DTEND:20260427T160000


LOCATION:Online

DESCRIPTION:https://ipp.ht.tu-dortmund.de/veranstaltungsdetail/inferences-capacities-1-62990/
SUMMARY:Inferences &amp;amp; Capacities
END:VEVENT
END:VCALENDAR
